BEGIN:VCALENDAR
VERSION:2.0
PRODID:-//VHEDC - ECPv6.15.20//NONSGML v1.0//EN
CALSCALE:GREGORIAN
METHOD:PUBLISH
X-ORIGINAL-URL:https://www.vhedc.com
X-WR-CALDESC:Events for VHEDC
REFRESH-INTERVAL;VALUE=DURATION:PT1H
X-Robots-Tag:noindex
X-PUBLISHED-TTL:PT1H
BEGIN:VTIMEZONE
TZID:America/Chicago
BEGIN:DAYLIGHT
TZOFFSETFROM:-0600
TZOFFSETTO:-0500
TZNAME:CDT
DTSTART:20230312T080000
END:DAYLIGHT
BEGIN:STANDARD
TZOFFSETFROM:-0500
TZOFFSETTO:-0600
TZNAME:CST
DTSTART:20231105T070000
END:STANDARD
BEGIN:DAYLIGHT
TZOFFSETFROM:-0600
TZOFFSETTO:-0500
TZNAME:CDT
DTSTART:20240310T080000
END:DAYLIGHT
BEGIN:STANDARD
TZOFFSETFROM:-0500
TZOFFSETTO:-0600
TZNAME:CST
DTSTART:20241103T070000
END:STANDARD
BEGIN:DAYLIGHT
TZOFFSETFROM:-0600
TZOFFSETTO:-0500
TZNAME:CDT
DTSTART:20250309T080000
END:DAYLIGHT
BEGIN:STANDARD
TZOFFSETFROM:-0500
TZOFFSETTO:-0600
TZNAME:CST
DTSTART:20251102T070000
END:STANDARD
BEGIN:DAYLIGHT
TZOFFSETFROM:-0600
TZOFFSETTO:-0500
TZNAME:CDT
DTSTART:20260308T080000
END:DAYLIGHT
BEGIN:STANDARD
TZOFFSETFROM:-0500
TZOFFSETTO:-0600
TZNAME:CST
DTSTART:20261101T070000
END:STANDARD
END:VTIMEZONE
BEGIN:VEVENT
DTSTART;TZID=America/Chicago:20250916T113000
DTEND;TZID=America/Chicago:20250916T130000
DTSTAMP:20260424T093918
CREATED:20250128T214256Z
LAST-MODIFIED:20250129T150350Z
UID:10000085-1758022200-1758027600@www.vhedc.com
SUMMARY:Lunch and Learn: Insights from Pursuing Government Funding Programs
DESCRIPTION:Lunch and Learn: Insights from Pursuing Government Funding Programs with Mike Greenbaum\, Executive Director of Newtrax\, Inc. \n\nOverview of options\nWhat makes a strong case for support?\nHow to?
URL:https://www.vhedc.com/event/lunch-and-learn-insights-from-pursuing-government-funding-programs/
LOCATION:Merrick\, Inc.\, 3210 Labore Road\, Vadnais Heights\, MN\, United States
CATEGORIES:Partners for Good
ORGANIZER;CN="Liz Moscatelli":MAILTO:lizmoscatelli@vhedc.com
END:VEVENT
BEGIN:VEVENT
DTSTART;TZID=America/Chicago:20250604T113000
DTEND;TZID=America/Chicago:20250604T130000
DTSTAMP:20260424T093918
CREATED:20250304T200943Z
LAST-MODIFIED:20250602T164424Z
UID:10000090-1749036600-1749042000@www.vhedc.com
SUMMARY:Benefit Trends: HR Connections Event
DESCRIPTION:“Benefit Trends\,” including:\nPreparing for annual renewals process brokers & employees; managing costs; employee preferences \nSpeaker:  Dan Bjornlie\, Alliant Vice President\, Employee Benefits
URL:https://www.vhedc.com/event/benefit-trends-hr-connections-event/
LOCATION:the Holiday Inn Express & Suites Vadnais Heights\, Vadnais Heights\, MN\, 55110\, United States
CATEGORIES:HR Connections
ORGANIZER;CN="Liz Moscatelli":MAILTO:lizmoscatelli@vhedc.com
END:VEVENT
BEGIN:VEVENT
DTSTART;TZID=America/Chicago:20250603T113000
DTEND;TZID=America/Chicago:20250603T130000
DTSTAMP:20260424T093918
CREATED:20250128T213805Z
LAST-MODIFIED:20250129T150228Z
UID:10000084-1748950200-1748955600@www.vhedc.com
SUMMARY:MN Legislative Update and Funding Opportunities for Non-Profits
DESCRIPTION:MN Legislative Update and Funding Opportunities for Non-Profits \n\nConfirmed: Senator Heather Gustafson (District 36)
URL:https://www.vhedc.com/event/mn-legislative-update-and-funding-opportunities-for-non-profits/
LOCATION:Merrick\, Inc.\, 3210 Labore Road\, Vadnais Heights\, MN\, United States
CATEGORIES:Partners for Good
ORGANIZER;CN="Liz Moscatelli":MAILTO:lizmoscatelli@vhedc.com
END:VEVENT
BEGIN:VEVENT
DTSTART;TZID=America/Chicago:20250521T113000
DTEND;TZID=America/Chicago:20250521T130000
DTSTAMP:20260424T093918
CREATED:20250304T194953Z
LAST-MODIFIED:20250507T041657Z
UID:10000089-1747827000-1747832400@www.vhedc.com
SUMMARY:Ask HR! Employee Resource Groups (ERG): HR Connections Event
DESCRIPTION:“Ask HR!:  Employee Resource Groups (ERG):  For Engagement & Inclusion” \nPanel from H.B. Fuller at H.B. Fuller
URL:https://www.vhedc.com/event/ask-hr-employee-resource-groups-erg-hr-connections-event/
LOCATION:H.B. Fuller\, 1200 Willow Lake Blvd\, Vadnais Heights\, MN\, 55110\, United States
CATEGORIES:HR Connections
ATTACH;FMTTYPE=image/png:https://www.vhedc.com/wp-content/uploads/2025/03/image002-6.png
ORGANIZER;CN="Liz Moscatelli":MAILTO:lizmoscatelli@vhedc.com
GEO:45.0454315;-93.0516256
X-APPLE-STRUCTURED-LOCATION;VALUE=URI;X-ADDRESS=H.B. Fuller 1200 Willow Lake Blvd Vadnais Heights MN 55110 United States;X-APPLE-RADIUS=500;X-TITLE=1200 Willow Lake Blvd:geo:-93.0516256,45.0454315
END:VEVENT
BEGIN:VEVENT
DTSTART;TZID=America/Chicago:20250423T110000
DTEND;TZID=America/Chicago:20250423T130000
DTSTAMP:20260424T093918
CREATED:20250310T211906Z
LAST-MODIFIED:20250314T152740Z
UID:10000093-1745406000-1745413200@www.vhedc.com
SUMMARY:VHEDC Women in Leadership Spring Luncheon
DESCRIPTION:
URL:https://www.vhedc.com/event/vhedc-women-in-leadership-spring-luncheon/
LOCATION:Jimmy’s Event Center\, Vadnais Heights\, MN\, United States
CATEGORIES:women in leadership
ATTACH;FMTTYPE=image/png:https://www.vhedc.com/wp-content/uploads/2025/03/Dr.-Amelia-Reigstad-5.png
ORGANIZER;CN="Liz Moscatelli":MAILTO:lizmoscatelli@vhedc.com
END:VEVENT
BEGIN:VEVENT
DTSTART;TZID=America/Chicago:20250417T090000
DTEND;TZID=America/Chicago:20250417T110000
DTSTAMP:20260424T093918
CREATED:20250304T165301Z
LAST-MODIFIED:20250325T150544Z
UID:10000088-1744880400-1744887600@www.vhedc.com
SUMMARY:Active Threat Preparedness: HR Connections Event
DESCRIPTION:“Active Threat Preparedness:”  Presented by field-experienced law enforcement officers\, topics include Situational Awareness\, Threat & Vulnerability Assessments\, & De-escalation Techniques \nSpeaker: Drew Moldenhauer\, Blue Ethos.
URL:https://www.vhedc.com/event/active-threat-preparedness-hr-connections-event/
LOCATION:Buerkle Event Center
CATEGORIES:HR Connections,Partners for Good
ATTACH;FMTTYPE=image/png:https://www.vhedc.com/wp-content/uploads/2025/03/HR-Connections-417-2.png
ORGANIZER;CN="Liz Moscatelli":MAILTO:lizmoscatelli@vhedc.com
END:VEVENT
BEGIN:VEVENT
DTSTART;TZID=America/Chicago:20250325T113000
DTEND;TZID=America/Chicago:20250325T130000
DTSTAMP:20260424T093918
CREATED:20250128T213244Z
LAST-MODIFIED:20250129T150108Z
UID:10000083-1742902200-1742907600@www.vhedc.com
SUMMARY:Lunch and Learn:  Local Funders
DESCRIPTION:Lunch and Learn:  Local Funders \n\n Connect with local funders\nLearn about their priorities and funding processes
URL:https://www.vhedc.com/event/lunch-and-learn-local-funders/
LOCATION:Merrick\, Inc.\, 3210 Labore Road\, Vadnais Heights\, MN\, United States
CATEGORIES:Partners for Good
ORGANIZER;CN="Liz Moscatelli":MAILTO:lizmoscatelli@vhedc.com
END:VEVENT
BEGIN:VEVENT
DTSTART;TZID=America/Chicago:20250319T113000
DTEND;TZID=America/Chicago:20250319T130000
DTSTAMP:20260424T093918
CREATED:20250304T164219Z
LAST-MODIFIED:20250304T164219Z
UID:10000087-1742383800-1742389200@www.vhedc.com
SUMMARY:Ask HR! AI for HR: HR Connections Event
DESCRIPTION:“Ask HR! AI for HR” New info shared on how applicants are using AI in the interview process!
URL:https://www.vhedc.com/event/ask-hr-ai-for-hr-hr-connections-event/
LOCATION:Fairfield Inn & Suites\, Vadnais Heights\, United States
CATEGORIES:HR Connections
ORGANIZER;CN="Liz Moscatelli":MAILTO:lizmoscatelli@vhedc.com
END:VEVENT
BEGIN:VEVENT
DTSTART;TZID=America/Chicago:20250219T083000
DTEND;TZID=America/Chicago:20250219T103000
DTSTAMP:20260424T093918
CREATED:20250114T153001Z
LAST-MODIFIED:20250128T213002Z
UID:10000081-1739953800-1739961000@www.vhedc.com
SUMMARY:Employment Law Updates: HR Connections Event
DESCRIPTION:“Employment Law Updates:”  ESST\, FLSA Classification\, Paid Leave\, Pay Transparency\, MN Secure Choice Retirement Program & more!\nBreakfast will be served.
URL:https://www.vhedc.com/event/employment-law-updates-hr-connections-event/
LOCATION:Buerkle Honda Event Center\, 3360 Hwy 61 N\, Vadnais Heights\, MN\, 55110\, United States
CATEGORIES:HR Connections,Partners for Good
ATTACH;FMTTYPE=image/png:https://www.vhedc.com/wp-content/uploads/2025/01/HR-Connections-219-3.png
ORGANIZER;CN="Liz Moscatelli":MAILTO:lizmoscatelli@vhedc.com
END:VEVENT
BEGIN:VEVENT
DTSTART;VALUE=DATE:20241112
DTEND;VALUE=DATE:20241113
DTSTAMP:20260424T093918
CREATED:20240402T204925Z
LAST-MODIFIED:20241028T033320Z
UID:10000065-1731369600-1731455999@www.vhedc.com
SUMMARY:Managing Social Media for Talent Acquisition & Employee Engagement
DESCRIPTION:
URL:https://www.vhedc.com/event/managing-social-media-for-talent-acquisition-employee-engagement/
LOCATION:IC System\, 444 Hwy 96 E\, Vadnais Heights\, 55127\, United States
ATTACH;FMTTYPE=image/png:https://www.vhedc.com/wp-content/uploads/2024/04/Manage-Your-Social-Media-Marketing.png
ORGANIZER;CN="Liz Moscatelli":MAILTO:lizmoscatelli@vhedc.com
END:VEVENT
BEGIN:VEVENT
DTSTART;TZID=America/Chicago:20241001T113000
DTEND;TZID=America/Chicago:20241001T130000
DTSTAMP:20260424T093918
CREATED:20240530T143951Z
LAST-MODIFIED:20240912T132136Z
UID:10000069-1727782200-1727787600@www.vhedc.com
SUMMARY:Women in Leadership Luncheon Sponsored by F & M Bank
DESCRIPTION:Tina has been speaking professionally since 2013 with a fairly simple message: women need women. To be successful in the workplace. To feel understood. To feel less alone in the world… women need women. And that’s the message she flies thousands of miles to spread. Her speaking style gives women permission to open up\, have honest conversations\, and connect. With a combination of authenticity\, storytelling\, and humor\, she’s been able to help hundreds of thousands of women tear down the walls we’ve built between us. Together with her audience\, she helps women build relationships with one another\, believe in themselves\, and take up space at companies\, campuses\, and organizations. Her work sets her soul on fire. So does a good nap. An excellent pour of bourbon. A beautiful snow. A peaceful and reflective sunset flight. A well-written West Wing quote. Her husband\, her son\, her dog\, and a Minnesotan accent\, of course. \nLunch is complimentary! There is no charge for this event\, but please RSVP so we can get an accurate lunch count.
URL:https://www.vhedc.com/event/women-in-leadership-luncheon-sponsored-by-f-m-bank/
LOCATION:North Oaks Golf Club\, 54 East Oaks Road\, North Oaks\, MN 55127\, North Oaks Golf Club\, 54 East Oaks Road\, North Oaks\, MN\, 55127\, United States
CATEGORIES:women in leadership
ATTACH;FMTTYPE=image/jpeg:https://www.vhedc.com/wp-content/uploads/2024/05/MN-WIB-2024-Invitation.jpg
ORGANIZER;CN="Liz Moscatelli":MAILTO:lizmoscatelli@vhedc.com
END:VEVENT
BEGIN:VEVENT
DTSTART;TZID=America/Chicago:20240926T170000
DTEND;TZID=America/Chicago:20240926T190000
DTSTAMP:20260424T093918
CREATED:20240805T204356Z
LAST-MODIFIED:20240910T191650Z
UID:10000072-1727370000-1727377200@www.vhedc.com
SUMMARY:VHEDC's 40th Anniversary 80's Party
DESCRIPTION:
URL:https://www.vhedc.com/event/vhedcs-40th-anniversary-80s-party/
LOCATION:4 Deuces Saloon\, 2222 4th Street\, White Bear Lake\, MN\, 55110\, United States
ATTACH;FMTTYPE=image/png:https://www.vhedc.com/wp-content/uploads/2024/08/VHEDC-is-celebrating-our-40th-Anniversary-with-a-party-at-Big-Wood-Brewery-3.png
ORGANIZER;CN="Liz Moscatelli":MAILTO:lizmoscatelli@vhedc.com
END:VEVENT
BEGIN:VEVENT
DTSTART;TZID=America/Chicago:20240716T113000
DTEND;TZID=America/Chicago:20240716T130000
DTSTAMP:20260424T093918
CREATED:20240701T164327Z
LAST-MODIFIED:20240717T194541Z
UID:10000071-1721129400-1721134800@www.vhedc.com
SUMMARY:Minnesota Secure Choice program\, how to navigate the new retirement tax laws
DESCRIPTION:
URL:https://www.vhedc.com/event/minnesota-secure-choice-program-how-to-navigate-the-new-retirement-tax-laws/
LOCATION:Holiday Inn Express\, 1100 East County Rd E\, Vadnais Heights\, 1100 Co Rd E East\, Vadnais Heights\, 55110\, United States
ATTACH;FMTTYPE=image/png:https://www.vhedc.com/wp-content/uploads/2024/07/Did-you-know-that-by-January-1-2025employers-with-five-or-more-employees-must-offer-a-qualified-retirement-savings-plan.png
ORGANIZER;CN="Liz Moscatelli":MAILTO:lizmoscatelli@vhedc.com
END:VEVENT
BEGIN:VEVENT
DTSTART;TZID=America/Chicago:20240711T163000
DTEND;TZID=America/Chicago:20240711T183000
DTSTAMP:20260424T093918
CREATED:20240402T204535Z
LAST-MODIFIED:20240402T204535Z
UID:10000064-1720715400-1720722600@www.vhedc.com
SUMMARY:Happy Hour\, Big Wood Brewery
DESCRIPTION:
URL:https://www.vhedc.com/event/happy-hour-big-wood-brewery/
LOCATION:Vadnais Heights\, MN\, United States
ORGANIZER;CN="Liz Moscatelli":MAILTO:lizmoscatelli@vhedc.com
END:VEVENT
END:VCALENDAR